BEGIN:VCALENDAR
VERSION:2.0
PRODID:-//Bellflower Somerset Mutual Water Company - ECPv6.15.20//NONSGML v1.0//EN
CALSCALE:GREGORIAN
METHOD:PUBLISH
X-WR-CALNAME:Bellflower Somerset Mutual Water Company
X-ORIGINAL-URL:https://www.bsmwc.com
X-WR-CALDESC:Events for Bellflower Somerset Mutual Water Company
REFRESH-INTERVAL;VALUE=DURATION:PT1H
X-Robots-Tag:noindex
X-PUBLISHED-TTL:PT1H
BEGIN:VTIMEZONE
TZID:America/Los_Angeles
BEGIN:DAYLIGHT
TZOFFSETFROM:-0800
TZOFFSETTO:-0700
TZNAME:PDT
DTSTART:20250309T100000
END:DAYLIGHT
BEGIN:STANDARD
TZOFFSETFROM:-0700
TZOFFSETTO:-0800
TZNAME:PST
DTSTART:20251102T090000
END:STANDARD
BEGIN:DAYLIGHT
TZOFFSETFROM:-0800
TZOFFSETTO:-0700
TZNAME:PDT
DTSTART:20260308T100000
END:DAYLIGHT
BEGIN:STANDARD
TZOFFSETFROM:-0700
TZOFFSETTO:-0800
TZNAME:PST
DTSTART:20261101T090000
END:STANDARD
BEGIN:DAYLIGHT
TZOFFSETFROM:-0800
TZOFFSETTO:-0700
TZNAME:PDT
DTSTART:20270314T100000
END:DAYLIGHT
BEGIN:STANDARD
TZOFFSETFROM:-0700
TZOFFSETTO:-0800
TZNAME:PST
DTSTART:20271107T090000
END:STANDARD
BEGIN:DAYLIGHT
TZOFFSETFROM:-0800
TZOFFSETTO:-0700
TZNAME:PDT
DTSTART:20280312T100000
END:DAYLIGHT
BEGIN:STANDARD
TZOFFSETFROM:-0700
TZOFFSETTO:-0800
TZNAME:PST
DTSTART:20281105T090000
END:STANDARD
END:VTIMEZONE
BEGIN:VEVENT
DTSTART;VALUE=DATE:20261224
DTEND;VALUE=DATE:20261225
DTSTAMP:20260420T065928
CREATED:20240521T215758Z
LAST-MODIFIED:20251119T164634Z
UID:4934-1798070400-1798156799@www.bsmwc.com
SUMMARY:Christmas Eve (Office Closed)
DESCRIPTION:
URL:https://www.bsmwc.com/event/christmas-eve-half-day/2026-12-24/
CATEGORIES:Events
END:VEVENT
BEGIN:VEVENT
DTSTART;VALUE=DATE:20261225
DTEND;VALUE=DATE:20261226
DTSTAMP:20260420T065928
CREATED:20240521T221651Z
LAST-MODIFIED:20240521T221651Z
UID:4935-1798156800-1798243199@www.bsmwc.com
SUMMARY:Christmas Day (Office Closed)
DESCRIPTION:
URL:https://www.bsmwc.com/event/christmas-day-office-closed/2026-12-25/
CATEGORIES:Events
END:VEVENT
BEGIN:VEVENT
DTSTART;VALUE=DATE:20261231
DTEND;VALUE=DATE:20270101
DTSTAMP:20260420T065928
CREATED:20240521T221851Z
LAST-MODIFIED:20251112T201951Z
UID:4940-1798675200-1798761599@www.bsmwc.com
SUMMARY:New Year’s Eve (Office closed @ 11:30am)
DESCRIPTION:
URL:https://www.bsmwc.com/event/new-years-eve-half-day/2026-12-31/
CATEGORIES:Events
END:VEVENT
BEGIN:VEVENT
DTSTART;VALUE=DATE:20270101
DTEND;VALUE=DATE:20270102
DTSTAMP:20260420T065928
CREATED:20240521T210842Z
LAST-MODIFIED:20240521T210842Z
UID:4941-1798761600-1798847999@www.bsmwc.com
SUMMARY:New Year's Day (Office Closed)
DESCRIPTION:
URL:https://www.bsmwc.com/event/new-years-day/2027-01-01/
CATEGORIES:Events
END:VEVENT
BEGIN:VEVENT
DTSTART;VALUE=DATE:20270118
DTEND;VALUE=DATE:20270119
DTSTAMP:20260420T065928
CREATED:20240521T212128Z
LAST-MODIFIED:20240521T212128Z
UID:4952-1800230400-1800316799@www.bsmwc.com
SUMMARY:Martin Luther King Jr. Day (Office Closed)
DESCRIPTION:
URL:https://www.bsmwc.com/event/martin-luther-king-jr-day/2027-01-18/
CATEGORIES:Events
END:VEVENT
BEGIN:VEVENT
DTSTART;TZID=America/Los_Angeles:20270119T163000
DTEND;TZID=America/Los_Angeles:20270119T163000
DTSTAMP:20260420T065928
CREATED:20241206T193440Z
LAST-MODIFIED:20241206T193440Z
UID:4954-1800376200-1800376200@www.bsmwc.com
SUMMARY:Board Meeting
DESCRIPTION:
URL:https://www.bsmwc.com/event/board-meeting-23/2027-01-19/
END:VEVENT
BEGIN:VEVENT
DTSTART;VALUE=DATE:20270215
DTEND;VALUE=DATE:20270216
DTSTAMP:20260420T065928
CREATED:20240521T212514Z
LAST-MODIFIED:20240521T212514Z
UID:4969-1802649600-1802735999@www.bsmwc.com
SUMMARY:President’s Day (Office Closed)
DESCRIPTION:
URL:https://www.bsmwc.com/event/presidents-day/2027-02-15/
CATEGORIES:Events
END:VEVENT
BEGIN:VEVENT
DTSTART;TZID=America/Los_Angeles:20270216T163000
DTEND;TZID=America/Los_Angeles:20270216T163000
DTSTAMP:20260420T065928
CREATED:20241206T193546Z
LAST-MODIFIED:20241206T193546Z
UID:4970-1802795400-1802795400@www.bsmwc.com
SUMMARY:Board Meeting
DESCRIPTION:
URL:https://www.bsmwc.com/event/board-meeting-24/2027-02-16/
END:VEVENT
BEGIN:VEVENT
DTSTART;TZID=America/Los_Angeles:20270315T163000
DTEND;TZID=America/Los_Angeles:20270315T163000
DTSTAMP:20260420T065928
CREATED:20241206T191754Z
LAST-MODIFIED:20251016T181053Z
UID:5000-1805128200-1805128200@www.bsmwc.com
SUMMARY:Board Meeting
DESCRIPTION:View Meeting Agendas and Minutes
URL:https://www.bsmwc.com/event/board-meeting-21/2027-03-15/
END:VEVENT
BEGIN:VEVENT
DTSTART;TZID=America/Los_Angeles:20270419T163000
DTEND;TZID=America/Los_Angeles:20270419T163000
DTSTAMP:20260420T065928
CREATED:20241206T191754Z
LAST-MODIFIED:20251016T181054Z
UID:5056-1808152200-1808152200@www.bsmwc.com
SUMMARY:Board Meeting
DESCRIPTION:View Meeting Agendas and Minutes
URL:https://www.bsmwc.com/event/board-meeting-21/2027-04-19/
END:VEVENT
BEGIN:VEVENT
DTSTART;TZID=America/Los_Angeles:20270517T163000
DTEND;TZID=America/Los_Angeles:20270517T163000
DTSTAMP:20260420T065928
CREATED:20241206T191754Z
LAST-MODIFIED:20251016T181054Z
UID:5074-1810571400-1810571400@www.bsmwc.com
SUMMARY:Board Meeting
DESCRIPTION:View Meeting Agendas and Minutes
URL:https://www.bsmwc.com/event/board-meeting-21/2027-05-17/
END:VEVENT
BEGIN:VEVENT
DTSTART;VALUE=DATE:20270531
DTEND;VALUE=DATE:20270601
DTSTAMP:20260420T065928
CREATED:20240521T214112Z
LAST-MODIFIED:20240521T214112Z
UID:5086-1811721600-1811807999@www.bsmwc.com
SUMMARY:Memorial Day (Office Closed)
DESCRIPTION:
URL:https://www.bsmwc.com/event/memorial-day-office-closed-2/2027-05-31/
CATEGORIES:Events
END:VEVENT
BEGIN:VEVENT
DTSTART;TZID=America/Los_Angeles:20270621T163000
DTEND;TZID=America/Los_Angeles:20270621T163000
DTSTAMP:20260420T065928
CREATED:20241206T191754Z
LAST-MODIFIED:20251016T181057Z
UID:5160-1813595400-1813595400@www.bsmwc.com
SUMMARY:Board Meeting
DESCRIPTION:View Meeting Agendas and Minutes
URL:https://www.bsmwc.com/event/board-meeting-21/2027-06-21/
END:VEVENT
BEGIN:VEVENT
DTSTART;VALUE=DATE:20270704
DTEND;VALUE=DATE:20270705
DTSTAMP:20260420T065928
CREATED:20240521T214227Z
LAST-MODIFIED:20240521T214227Z
UID:5167-1814659200-1814745599@www.bsmwc.com
SUMMARY:Independence Day (Office Closed)
DESCRIPTION:
URL:https://www.bsmwc.com/event/independence-day-office-closed-2/2027-07-04/
CATEGORIES:Events
END:VEVENT
BEGIN:VEVENT
DTSTART;TZID=America/Los_Angeles:20270719T163000
DTEND;TZID=America/Los_Angeles:20270719T163000
DTSTAMP:20260420T065928
CREATED:20241206T191754Z
LAST-MODIFIED:20251016T181057Z
UID:5185-1816014600-1816014600@www.bsmwc.com
SUMMARY:Board Meeting
DESCRIPTION:View Meeting Agendas and Minutes
URL:https://www.bsmwc.com/event/board-meeting-21/2027-07-19/
END:VEVENT
BEGIN:VEVENT
DTSTART;TZID=America/Los_Angeles:20270816T163000
DTEND;TZID=America/Los_Angeles:20270816T163000
DTSTAMP:20260420T065928
CREATED:20241206T191754Z
LAST-MODIFIED:20251016T181058Z
UID:5222-1818433800-1818433800@www.bsmwc.com
SUMMARY:Board Meeting
DESCRIPTION:View Meeting Agendas and Minutes
URL:https://www.bsmwc.com/event/board-meeting-21/2027-08-16/
END:VEVENT
BEGIN:VEVENT
DTSTART;VALUE=DATE:20270906
DTEND;VALUE=DATE:20270907
DTSTAMP:20260420T065928
CREATED:20240521T214538Z
LAST-MODIFIED:20240521T214538Z
UID:5244-1820188800-1820275199@www.bsmwc.com
SUMMARY:Labor Day (Office Closed)
DESCRIPTION:
URL:https://www.bsmwc.com/event/labor-day-office-closed-2/2027-09-06/
CATEGORIES:Events
END:VEVENT
BEGIN:VEVENT
DTSTART;TZID=America/Los_Angeles:20270920T163000
DTEND;TZID=America/Los_Angeles:20270920T163000
DTSTAMP:20260420T065928
CREATED:20241206T191754Z
LAST-MODIFIED:20251016T181059Z
UID:5258-1821457800-1821457800@www.bsmwc.com
SUMMARY:Board Meeting
DESCRIPTION:View Meeting Agendas and Minutes
URL:https://www.bsmwc.com/event/board-meeting-21/2027-09-20/
END:VEVENT
BEGIN:VEVENT
DTSTART;TZID=America/Los_Angeles:20271018T163000
DTEND;TZID=America/Los_Angeles:20271018T163000
DTSTAMP:20260420T065928
CREATED:20241206T191754Z
LAST-MODIFIED:20241206T191754Z
UID:5306-1823877000-1823877000@www.bsmwc.com
SUMMARY:Board Meeting
DESCRIPTION:View Meeting Agendas and Minutes
URL:https://www.bsmwc.com/event/board-meeting-21/2027-10-18/
END:VEVENT
BEGIN:VEVENT
DTSTART;VALUE=DATE:20271109
DTEND;VALUE=DATE:20271110
DTSTAMP:20260420T065928
CREATED:20251112T202237Z
LAST-MODIFIED:20251112T202237Z
UID:5542-1825718400-1825804799@www.bsmwc.com
SUMMARY:Office Closed
DESCRIPTION:
URL:https://www.bsmwc.com/event/office-closed-47/2027-11-09/
END:VEVENT
BEGIN:VEVENT
DTSTART;VALUE=DATE:20271110
DTEND;VALUE=DATE:20271111
DTSTAMP:20260420T065928
CREATED:20241122T175848Z
LAST-MODIFIED:20241122T175848Z
UID:5460-1825804800-1825891199@www.bsmwc.com
SUMMARY:Office Closed
DESCRIPTION:
URL:https://www.bsmwc.com/event/day-before-veterans-day/2027-11-10/
END:VEVENT
BEGIN:VEVENT
DTSTART;VALUE=DATE:20271111
DTEND;VALUE=DATE:20271112
DTSTAMP:20260420T065928
CREATED:20240521T214756Z
LAST-MODIFIED:20240521T214756Z
UID:5544-1825891200-1825977599@www.bsmwc.com
SUMMARY:Veteran’s Day (Office Closed)
DESCRIPTION:
URL:https://www.bsmwc.com/event/veterans-day-office-closed-2/2027-11-11/
CATEGORIES:Events
END:VEVENT
BEGIN:VEVENT
DTSTART;TZID=America/Los_Angeles:20271115T163000
DTEND;TZID=America/Los_Angeles:20271115T163000
DTSTAMP:20260420T065928
CREATED:20241206T191754Z
LAST-MODIFIED:20241206T191754Z
UID:5564-1826296200-1826296200@www.bsmwc.com
SUMMARY:Board Meeting
DESCRIPTION:View Meeting Agendas and Minutes
URL:https://www.bsmwc.com/event/board-meeting-21/2027-11-15/
END:VEVENT
BEGIN:VEVENT
DTSTART;VALUE=DATE:20271125
DTEND;VALUE=DATE:20271126
DTSTAMP:20260420T065928
CREATED:20240521T215008Z
LAST-MODIFIED:20240521T215008Z
UID:5600-1827100800-1827187199@www.bsmwc.com
SUMMARY:Thanksgiving (Office Closed)
DESCRIPTION:
URL:https://www.bsmwc.com/event/thanksgiving-office-closed-2-2026-11-26/2027-11-25/
CATEGORIES:Events
END:VEVENT
BEGIN:VEVENT
DTSTART;VALUE=DATE:20271125
DTEND;VALUE=DATE:20271127
DTSTAMP:20260420T065928
CREATED:20240521T215008Z
LAST-MODIFIED:20240521T215008Z
UID:5599-1827100800-1827273599@www.bsmwc.com
SUMMARY:Thanksgiving (Office Closed)
DESCRIPTION:
URL:https://www.bsmwc.com/event/thanksgiving-office-closed-2/2027-11-25/
CATEGORIES:Events
END:VEVENT
BEGIN:VEVENT
DTSTART;VALUE=DATE:20271126
DTEND;VALUE=DATE:20271127
DTSTAMP:20260420T065928
CREATED:20240521T215603Z
LAST-MODIFIED:20240521T215603Z
UID:5603-1827187200-1827273599@www.bsmwc.com
SUMMARY:Thanksgiving (Observed\, Office Closed)
DESCRIPTION:
URL:https://www.bsmwc.com/event/thanksgiving-observed-office-closed/2027-11-26/
CATEGORIES:Events
END:VEVENT
BEGIN:VEVENT
DTSTART;TZID=America/Los_Angeles:20271220T160000
DTEND;TZID=America/Los_Angeles:20271220T160000
DTSTAMP:20260420T065928
CREATED:20241206T192017Z
LAST-MODIFIED:20241206T192017Z
UID:5686-1829318400-1829318400@www.bsmwc.com
SUMMARY:Board Meeting
DESCRIPTION:
URL:https://www.bsmwc.com/event/board-meeting-22/2027-12-20/
END:VEVENT
BEGIN:VEVENT
DTSTART;VALUE=DATE:20271224
DTEND;VALUE=DATE:20271225
DTSTAMP:20260420T065928
CREATED:20240521T215758Z
LAST-MODIFIED:20240521T215758Z
UID:5698-1829606400-1829692799@www.bsmwc.com
SUMMARY:Christmas Eve (Office Closed)
DESCRIPTION:
URL:https://www.bsmwc.com/event/christmas-eve-half-day/2027-12-24/
CATEGORIES:Events
END:VEVENT
BEGIN:VEVENT
DTSTART;VALUE=DATE:20271225
DTEND;VALUE=DATE:20271226
DTSTAMP:20260420T065928
CREATED:20240521T221651Z
LAST-MODIFIED:20240521T221651Z
UID:5700-1829692800-1829779199@www.bsmwc.com
SUMMARY:Christmas Day (Office Closed)
DESCRIPTION:
URL:https://www.bsmwc.com/event/christmas-day-office-closed/2027-12-25/
CATEGORIES:Events
END:VEVENT
BEGIN:VEVENT
DTSTART;VALUE=DATE:20271231
DTEND;VALUE=DATE:20280101
DTSTAMP:20260420T065928
CREATED:20240521T221851Z
LAST-MODIFIED:20240521T221851Z
UID:5707-1830211200-1830297599@www.bsmwc.com
SUMMARY:New Year’s Eve (Office closed @ 11:30am)
DESCRIPTION:
URL:https://www.bsmwc.com/event/new-years-eve-half-day/2027-12-31/
CATEGORIES:Events
END:VEVENT
END:VCALENDAR